BEGIN:VCALENDAR
VERSION:2.0
PRODID:-//Nepali Calendar//EN
BEGIN:VEVENT
UID:73ccc2068a32cf31b0ec7fc1a79a849c@nepalicalendar.com
DTSTAMP:20260422T140427Z
DTSTART;VALUE=DATE:20241003
DTEND;VALUE=DATE:20241004
SUMMARY:नवरात्र आरम्भ
DESCRIPTION:नवरात्र आरम्भ
END:VEVENT
END:VCALENDAR