BEGIN:VCALENDAR
VERSION:2.0
PRODID:-//Nepali Calendar//EN
BEGIN:VEVENT
UID:26e1a178c21e4a25133acdd6dedba8c0@nepalicalendar.com
DTSTAMP:20260422T140907Z
DTSTART;VALUE=DATE:20241003
DTEND;VALUE=DATE:20241004
SUMMARY:घटस्थापना व्रत
DESCRIPTION:घटस्थापना व्रत
END:VEVENT
END:VCALENDAR