BEGIN:VCALENDAR
VERSION:2.0
PRODID:-//Nepali Calendar//EN
BEGIN:VEVENT
UID:055d54c0560e321348d9af3ed4eaf25a@nepalicalendar.com
DTSTAMP:20260422T140831Z
DTSTART;VALUE=DATE:20241102
DTEND;VALUE=DATE:20241103
SUMMARY:नेपाल सम्वत ११४५ प्रारम्भ
DESCRIPTION:नेपाल सम्वत ११४५ प्रारम्भ
END:VEVENT
END:VCALENDAR