BEGIN:VCALENDAR
VERSION:2.0
PRODID:-//Nepali Calendar//EN
BEGIN:VEVENT
UID:dc1df9dbae6a92756e2f728b174c6c49@nepalicalendar.com
DTSTAMP:20260422T140533Z
DTSTART;VALUE=DATE:20241102
DTEND;VALUE=DATE:20241103
SUMMARY:हलि तिहार
DESCRIPTION:हलि तिहार
END:VEVENT
END:VCALENDAR