BEGIN:VCALENDAR
VERSION:2.0
PRODID:-//Nepali Calendar//EN
BEGIN:VEVENT
UID:b8b75041b79848499e86fbba8180cd12@nepalicalendar.com
DTSTAMP:20260421T231625Z
DTSTART;VALUE=DATE:20250629
DTEND;VALUE=DATE:20250630
SUMMARY:दहीचिउरा खाने दिन
DESCRIPTION:दहीचिउरा खाने दिन
END:VEVENT
END:VCALENDAR