BEGIN:VCALENDAR
VERSION:2.0
PRODID:-//Nepali Calendar//EN
BEGIN:VEVENT
UID:0c4426afa0162d216d42d72ad85a5213@nepalicalendar.com
DTSTAMP:20260422T123551Z
DTSTART;VALUE=DATE:20241102
DTEND;VALUE=DATE:20241103
SUMMARY:म्हपूजा
DESCRIPTION:म्हपूजा
END:VEVENT
END:VCALENDAR