BEGIN:VCALENDAR
VERSION:2.0
PRODID:-//Nepali Calendar//EN
BEGIN:VEVENT
UID:c1d7a20428881a2b564a99397505c7a8@nepalicalendar.com
DTSTAMP:20260422T123345Z
DTSTART;VALUE=DATE:20241102
DTEND;VALUE=DATE:20241103
SUMMARY:गाईगोरु पूजा
DESCRIPTION:गाईगोरु पूजा
END:VEVENT
END:VCALENDAR