BEGIN:VCALENDAR
VERSION:2.0
PRODID:-//Nepali Calendar//EN
BEGIN:VEVENT
UID:0a3e1d3b865a9c404196a4b100e88c3b@nepalicalendar.com
DTSTAMP:20260422T123336Z
DTSTART;VALUE=DATE:20241102
DTEND;VALUE=DATE:20241103
SUMMARY:गोवर्धन पूजा
DESCRIPTION:गोवर्धन पूजा
END:VEVENT
END:VCALENDAR