BEGIN:VCALENDAR
VERSION:2.0
PRODID:-//Nepali Calendar//EN
BEGIN:VEVENT
UID:7453050c3d4d333256e923005cbac84f@nepalicalendar.com
DTSTAMP:20260422T140703Z
DTSTART;VALUE=DATE:20241002
DTEND;VALUE=DATE:20241003
SUMMARY:विश्व अहिंसा दिवस
DESCRIPTION:विश्व अहिंसा दिवस
END:VEVENT
END:VCALENDAR