BEGIN:VCALENDAR
VERSION:2.0
PRODID:-//Nepali Calendar//EN
BEGIN:VEVENT
UID:129578aeba68c78814358099a4ddc516@nepalicalendar.com
DTSTAMP:20260422T140427Z
DTSTART;VALUE=DATE:20241002
DTEND;VALUE=DATE:20241003
SUMMARY:पितृ विसर्जन
DESCRIPTION:पितृ विसर्जन
END:VEVENT
END:VCALENDAR