BEGIN:VCALENDAR
VERSION:2.0
PRODID:-//Nepali Calendar//EN
BEGIN:VEVENT
UID:9ec4d0c122ca7922ec2084ae8b314ea7@nepalicalendar.com
DTSTAMP:20260422T140447Z
DTSTART;VALUE=DATE:20241002
DTEND;VALUE=DATE:20241003
SUMMARY:औंसी श्राद्ध
DESCRIPTION:औंसी श्राद्ध
END:VEVENT
END:VCALENDAR