BEGIN:VCALENDAR
VERSION:2.0
PRODID:-//Nepali Calendar//EN
BEGIN:VEVENT
UID:6f5c1427b81ef0020c8b905cfbd5b5ee@nepalicalendar.com
DTSTAMP:20260422T123345Z
DTSTART;VALUE=DATE:20241101
DTEND;VALUE=DATE:20241102
SUMMARY:तिहार बिदा
DESCRIPTION:तिहार बिदा
END:VEVENT
END:VCALENDAR