BEGIN:VCALENDAR
VERSION:2.0
PRODID:-//Nepali Calendar//EN
BEGIN:VEVENT
UID:ec02914bd54bba99cc4eeedae3bf4ed3@nepalicalendar.com
DTSTAMP:20260422T105345Z
DTSTART;VALUE=DATE:20241128
DTEND;VALUE=DATE:20241129
SUMMARY:प्रदोष व्रत
DESCRIPTION:प्रदोष व्रत
END:VEVENT
END:VCALENDAR