BEGIN:VCALENDAR
VERSION:2.0
PRODID:-//Nepali Calendar//EN
BEGIN:VEVENT
UID:6f60190e136d30ecec1ee4835a1a5995@nepalicalendar.com
DTSTAMP:20260422T140457Z
DTSTART;VALUE=DATE:20241001
DTEND;VALUE=DATE:20241002
SUMMARY:अन्तर्राष्ट्रिय ज्येष्ठ नागरिक दिवस
DESCRIPTION:अन्तर्राष्ट्रिय ज्येष्ठ नागरिक दिवस
END:VEVENT
END:VCALENDAR