BEGIN:VCALENDAR
VERSION:2.0
PRODID:-//Nepali Calendar//EN
BEGIN:VEVENT
UID:7b3aa38a1706174a45c972a55416e85d@nepalicalendar.com
DTSTAMP:20260422T140626Z
DTSTART;VALUE=DATE:20241001
DTEND;VALUE=DATE:20241002
SUMMARY:चतुर्दशी श्राद्ध
DESCRIPTION:चतुर्दशी श्राद्ध
END:VEVENT
END:VCALENDAR