BEGIN:VCALENDAR
VERSION:2.0
PRODID:-//Nepali Calendar//EN
BEGIN:VEVENT
UID:75c7bcd7d8c0206dc78ac124abbd5b76@nepalicalendar.com
DTSTAMP:20260421T232107Z
DTSTART;VALUE=DATE:20250626
DTEND;VALUE=DATE:20250627
SUMMARY:अन्तर्राष्ट्रिय लागू पदार्थ तथा अवैध तस्करी विरुद्ध दिवस
DESCRIPTION:अन्तर्राष्ट्रिय लागू पदार्थ तथा अवैध तस्करी विरुद्ध दिवस
END:VEVENT
END:VCALENDAR