BEGIN:VCALENDAR
VERSION:2.0
PRODID:-//Nepali Calendar//EN
BEGIN:VEVENT
UID:ceb512a86c8475327fb3ca8f9297078a@nepalicalendar.com
DTSTAMP:20260422T140627Z
DTSTART;VALUE=DATE:20241031
DTEND;VALUE=DATE:20241101
SUMMARY:विश्व शहरीकरण दिवस
DESCRIPTION:विश्व शहरीकरण दिवस
END:VEVENT
END:VCALENDAR