BEGIN:VCALENDAR
VERSION:2.0
PRODID:-//Nepali Calendar//EN
BEGIN:VEVENT
UID:85d9b1f28f48c21f13e752bb285b6e24@nepalicalendar.com
DTSTAMP:20260422T140610Z
DTSTART;VALUE=DATE:20241031
DTEND;VALUE=DATE:20241101
SUMMARY:सुखरात्री
DESCRIPTION:सुखरात्री
END:VEVENT
END:VCALENDAR