BEGIN:VCALENDAR
VERSION:2.0
PRODID:-//Nepali Calendar//EN
BEGIN:VEVENT
UID:082e4a9ebf79521a0dd76bcdf6b3d86b@nepalicalendar.com
DTSTAMP:20260422T140351Z
DTSTART;VALUE=DATE:20241031
DTEND;VALUE=DATE:20241101
SUMMARY:नरक चतुर्दशी
DESCRIPTION:नरक चतुर्दशी
END:VEVENT
END:VCALENDAR