BEGIN:VCALENDAR
VERSION:2.0
PRODID:-//Nepali Calendar//EN
BEGIN:VEVENT
UID:6d3556ca5f1e6cb56440448f7df2a1b2@nepalicalendar.com
DTSTAMP:20260422T123457Z
DTSTART;VALUE=DATE:20241031
DTEND;VALUE=DATE:20241101
SUMMARY:कुकुर तिहार
DESCRIPTION:कुकुर तिहार
END:VEVENT
END:VCALENDAR