BEGIN:VCALENDAR
VERSION:2.0
PRODID:-//Nepali Calendar//EN
BEGIN:VEVENT
UID:39cf844acc8ba16beecc4420e5c70b51@nepalicalendar.com
DTSTAMP:20260422T123807Z
DTSTART;VALUE=DATE:20241031
DTEND;VALUE=DATE:20241101
SUMMARY:महाकवी लक्ष्मीप्रसाद देवकोटाको जन्म जयन्ती
DESCRIPTION:महाकवी लक्ष्मीप्रसाद देवकोटाको जन्म जयन्ती
END:VEVENT
END:VCALENDAR