BEGIN:VCALENDAR
VERSION:2.0
PRODID:-//Nepali Calendar//EN
BEGIN:VEVENT
UID:da3df1ff3f12521aad926034767190f6@nepalicalendar.com
DTSTAMP:20260422T123306Z
DTSTART;VALUE=DATE:20241031
DTEND;VALUE=DATE:20241101
SUMMARY:लक्ष्मी पूजा
DESCRIPTION:लक्ष्मी पूजा
END:VEVENT
END:VCALENDAR