BEGIN:VCALENDAR
VERSION:2.0
PRODID:-//Nepali Calendar//EN
BEGIN:VEVENT
UID:42f3f70682e1fed62ef6443ac663d1af@nepalicalendar.com
DTSTAMP:20260422T140617Z
DTSTART;VALUE=DATE:20240930
DTEND;VALUE=DATE:20241001
SUMMARY:त्रयोदशी श्राद्ध
DESCRIPTION:त्रयोदशी श्राद्ध
END:VEVENT
END:VCALENDAR