BEGIN:VCALENDAR
VERSION:2.0
PRODID:-//Nepali Calendar//EN
BEGIN:VEVENT
UID:de3812394a8e93ffac4fe5b9b7036342@nepalicalendar.com
DTSTAMP:20260422T140745Z
DTSTART;VALUE=DATE:20240930
DTEND;VALUE=DATE:20241001
SUMMARY:सोम प्रदोष व्रत
DESCRIPTION:सोम प्रदोष व्रत
END:VEVENT
END:VCALENDAR