BEGIN:VCALENDAR
VERSION:2.0
PRODID:-//Nepali Calendar//EN
BEGIN:VEVENT
UID:f245c00a5459f44329ccdf487ea8e203@nepalicalendar.com
DTSTAMP:20260422T105524Z
DTSTART;VALUE=DATE:20241126
DTEND;VALUE=DATE:20241127
SUMMARY:उत्पतिका एकादशी व्रत
DESCRIPTION:उत्पतिका एकादशी व्रत
END:VEVENT
END:VCALENDAR