BEGIN:VCALENDAR
VERSION:2.0
PRODID:-//Nepali Calendar//EN
BEGIN:VEVENT
UID:68741346e124202e7b6a7d7e9555fe28@nepalicalendar.com
DTSTAMP:20260422T105809Z
DTSTART;VALUE=DATE:20241125
DTEND;VALUE=DATE:20241126
SUMMARY:अन्तर्राष्ट्रिय महिला हिंसा अन्त्य दिवस
DESCRIPTION:अन्तर्राष्ट्रिय महिला हिंसा अन्त्य दिवस
END:VEVENT
END:VCALENDAR