BEGIN:VCALENDAR
VERSION:2.0
PRODID:-//Nepali Calendar//EN
BEGIN:VEVENT
UID:582c8ad98bbd3fc7743b2f50ee9163af@nepalicalendar.com
DTSTAMP:20260421T231920Z
DTSTART;VALUE=DATE:20250625
DTEND;VALUE=DATE:20250626
SUMMARY:भूमी पूजा
DESCRIPTION:भूमी पूजा
END:VEVENT
END:VCALENDAR