BEGIN:VCALENDAR
VERSION:2.0
PRODID:-//Nepali Calendar//EN
BEGIN:VEVENT
UID:13b50ec51c5ee44b27e8abe9c1e4a228@nepalicalendar.com
DTSTAMP:20260422T123802Z
DTSTART;VALUE=DATE:20241030
DTEND;VALUE=DATE:20241031
SUMMARY:धनवन्तरी जयन्ती
DESCRIPTION:धनवन्तरी जयन्ती
END:VEVENT
END:VCALENDAR