BEGIN:VCALENDAR
VERSION:2.0
PRODID:-//Nepali Calendar//EN
BEGIN:VEVENT
UID:1d284994b35231609f70b09067aae842@nepalicalendar.com
DTSTAMP:20260422T123918Z
DTSTART;VALUE=DATE:20241030
DTEND;VALUE=DATE:20241031
SUMMARY:काग तिहार
DESCRIPTION:काग तिहार
END:VEVENT
END:VCALENDAR