BEGIN:VCALENDAR
VERSION:2.0
PRODID:-//Nepali Calendar//EN
BEGIN:VEVENT
UID:a550b7e75ab169512237d7c4f0240f46@nepalicalendar.com
DTSTAMP:20260422T140934Z
DTSTART;VALUE=DATE:20240929
DTEND;VALUE=DATE:20240930
SUMMARY:विश्व मुटु दिवस
DESCRIPTION:विश्व मुटु दिवस
END:VEVENT
END:VCALENDAR