BEGIN:VCALENDAR
VERSION:2.0
PRODID:-//Nepali Calendar//EN
BEGIN:VEVENT
UID:a85f4d01ffcb3dda81f623d379d1a2ac@nepalicalendar.com
DTSTAMP:20260422T140954Z
DTSTART;VALUE=DATE:20240929
DTEND;VALUE=DATE:20240930
SUMMARY:मघा श्राद्ध
DESCRIPTION:मघा श्राद्ध
END:VEVENT
END:VCALENDAR