BEGIN:VCALENDAR
VERSION:2.0
PRODID:-//Nepali Calendar//EN
BEGIN:VEVENT
UID:e0de12815e3a31223b39c1d10d6d3eb3@nepalicalendar.com
DTSTAMP:20260422T140703Z
DTSTART;VALUE=DATE:20240929
DTEND;VALUE=DATE:20240930
SUMMARY:द्वादशी श्राद्ध
DESCRIPTION:द्वादशी श्राद्ध
END:VEVENT
END:VCALENDAR