BEGIN:VCALENDAR
VERSION:2.0
PRODID:-//Nepali Calendar//EN
BEGIN:VEVENT
UID:eef4ad5fc059744186c4a431ff36faea@nepalicalendar.com
DTSTAMP:20260422T123306Z
DTSTART;VALUE=DATE:20241029
DTEND;VALUE=DATE:20241030
SUMMARY:धन त्रयोदशी व्रत (धनतेरस)
DESCRIPTION:धन त्रयोदशी व्रत (धनतेरस)
END:VEVENT
END:VCALENDAR