BEGIN:VCALENDAR
VERSION:2.0
PRODID:-//Nepali Calendar//EN
BEGIN:VEVENT
UID:f5715e5381f6349699d2f25467c6ef66@nepalicalendar.com
DTSTAMP:20260422T154910Z
DTSTART;VALUE=DATE:20240928
DTEND;VALUE=DATE:20240929
SUMMARY:अन्तर्राष्ट्रिय सूचनामा विश्वव्यापी पहुँचको दिवस
DESCRIPTION:अन्तर्राष्ट्रिय सूचनामा विश्वव्यापी पहुँचको दिवस
END:VEVENT
END:VCALENDAR