BEGIN:VCALENDAR
VERSION:2.0
PRODID:-//Nepali Calendar//EN
BEGIN:VEVENT
UID:0fbab7ad021d4faa8e144cc67fcdc93f@nepalicalendar.com
DTSTAMP:20260422T140912Z
DTSTART;VALUE=DATE:20240928
DTEND;VALUE=DATE:20240929
SUMMARY:विश्व रेबिज दिवस
DESCRIPTION:विश्व रेबिज दिवस
END:VEVENT
END:VCALENDAR