BEGIN:VCALENDAR
VERSION:2.0
PRODID:-//Nepali Calendar//EN
BEGIN:VEVENT
UID:7e5ecebcc3d1281d1b6fa9322d813a95@nepalicalendar.com
DTSTAMP:20260422T123345Z
DTSTART;VALUE=DATE:20241028
DTEND;VALUE=DATE:20241029
SUMMARY:रमा एकादशी व्रत
DESCRIPTION:रमा एकादशी व्रत
END:VEVENT
END:VCALENDAR