BEGIN:VCALENDAR
VERSION:2.0
PRODID:-//Nepali Calendar//EN
BEGIN:VEVENT
UID:ee83172ef71752a892b35a717f4dc2aa@nepalicalendar.com
DTSTAMP:20260421T231816Z
DTSTART;VALUE=DATE:20250623
DTEND;VALUE=DATE:20250624
SUMMARY:अन्तर्राष्ट्रिय एकल महिला दिवस
DESCRIPTION:अन्तर्राष्ट्रिय एकल महिला दिवस
END:VEVENT
END:VCALENDAR