BEGIN:VCALENDAR
VERSION:2.0
PRODID:-//Nepali Calendar//EN
BEGIN:VEVENT
UID:56cf0baa8e5ecc627278e61d00cd31b2@nepalicalendar.com
DTSTAMP:20260422T140534Z
DTSTART;VALUE=DATE:20240928
DTEND;VALUE=DATE:20240929
SUMMARY:एकादशी श्राद्ध
DESCRIPTION:एकादशी श्राद्ध
END:VEVENT
END:VCALENDAR