BEGIN:VCALENDAR
VERSION:2.0
PRODID:-//Nepali Calendar//EN
BEGIN:VEVENT
UID:d528a7fa928286a6162b0ee49dc25193@nepalicalendar.com
DTSTAMP:20260422T140458Z
DTSTART;VALUE=DATE:20240928
DTEND;VALUE=DATE:20240929
SUMMARY:इन्दिरा एकादशी व्रत
DESCRIPTION:इन्दिरा एकादशी व्रत
END:VEVENT
END:VCALENDAR