BEGIN:VCALENDAR
VERSION:2.0
PRODID:-//Nepali Calendar//EN
BEGIN:VEVENT
UID:0fe0749196e95131d0187cb8671d76c7@nepalicalendar.com
DTSTAMP:20260422T140447Z
DTSTART;VALUE=DATE:20240927
DTEND;VALUE=DATE:20240928
SUMMARY:विश्व पर्यटन दिवस
DESCRIPTION:विश्व पर्यटन दिवस
END:VEVENT
END:VCALENDAR