BEGIN:VCALENDAR
VERSION:2.0
PRODID:-//Nepali Calendar//EN
BEGIN:VEVENT
UID:b941dafecb99e320a54fffe2833d2dd4@nepalicalendar.com
DTSTAMP:20260422T141039Z
DTSTART;VALUE=DATE:20240927
DTEND;VALUE=DATE:20240928
SUMMARY:दशमी श्राद्ध
DESCRIPTION:दशमी श्राद्ध
END:VEVENT
END:VCALENDAR