BEGIN:VCALENDAR
VERSION:2.0
PRODID:-//Nepali Calendar//EN
BEGIN:VEVENT
UID:d2bdbb4452f4a0d1001cb0e5377f502e@nepalicalendar.com
DTSTAMP:20260422T140907Z
DTSTART;VALUE=DATE:20240926
DTEND;VALUE=DATE:20240927
SUMMARY:अन्तराष्ट्रिय परमाणु हतियार निर्मुल दिवस
DESCRIPTION:अन्तराष्ट्रिय परमाणु हतियार निर्मुल दिवस
END:VEVENT
END:VCALENDAR