BEGIN:VCALENDAR
VERSION:2.0
PRODID:-//Nepali Calendar//EN
BEGIN:VEVENT
UID:5f07db2c59ddfc871b0766fb34d34897@nepalicalendar.com
DTSTAMP:20260422T141104Z
DTSTART;VALUE=DATE:20240926
DTEND;VALUE=DATE:20240927
SUMMARY:नवमी श्राद्ध
DESCRIPTION:नवमी श्राद्ध
END:VEVENT
END:VCALENDAR