BEGIN:VCALENDAR
VERSION:2.0
PRODID:-//Nepali Calendar//EN
BEGIN:VEVENT
UID:473c2fbda2bcc91d195b805bff7a586a@nepalicalendar.com
DTSTAMP:20260422T105345Z
DTSTART;VALUE=DATE:20241121
DTEND;VALUE=DATE:20241122
SUMMARY:विश्व दर्शनशास्त्र दिवस
DESCRIPTION:विश्व दर्शनशास्त्र दिवस
END:VEVENT
END:VCALENDAR