BEGIN:VCALENDAR
VERSION:2.0
PRODID:-//Nepali Calendar//EN
BEGIN:VEVENT
UID:7353d94a9110a99074e6cf1b202d0146@nepalicalendar.com
DTSTAMP:20260422T123254Z
DTSTART;VALUE=DATE:20241025
DTEND;VALUE=DATE:20241026
SUMMARY:राधाष्टमी व्रत
DESCRIPTION:राधाष्टमी व्रत
END:VEVENT
END:VCALENDAR