BEGIN:VCALENDAR
VERSION:2.0
PRODID:-//Nepali Calendar//EN
BEGIN:VEVENT
UID:17cd8169438ab7ff7f6493dbc7cc71fb@nepalicalendar.com
DTSTAMP:20260422T110010Z
DTSTART;VALUE=DATE:20241121
DTEND;VALUE=DATE:20241122
SUMMARY:विश्व टेलिभिजन दिवस
DESCRIPTION:विश्व टेलिभिजन दिवस
END:VEVENT
END:VCALENDAR