BEGIN:VCALENDAR
VERSION:2.0
PRODID:-//Nepali Calendar//EN
BEGIN:VEVENT
UID:6bc299ff50d7a35237cf40ca2609d207@nepalicalendar.com
DTSTAMP:20260421T231626Z
DTSTART;VALUE=DATE:20250623
DTEND;VALUE=DATE:20250624
SUMMARY:सोम प्रदोष व्रत
DESCRIPTION:सोम प्रदोष व्रत
END:VEVENT
END:VCALENDAR