BEGIN:VCALENDAR
VERSION:2.0
PRODID:-//Nepali Calendar//EN
BEGIN:VEVENT
UID:8dce15d257140cb02c2d82c1ca5e1693@nepalicalendar.com
DTSTAMP:20260422T155256Z
DTSTART;VALUE=DATE:20240925
DTEND;VALUE=DATE:20240926
SUMMARY:विश्व फार्मासिस्ट दिवस
DESCRIPTION:विश्व फार्मासिस्ट दिवस
END:VEVENT
END:VCALENDAR