BEGIN:VCALENDAR
VERSION:2.0
PRODID:-//Nepali Calendar//EN
BEGIN:VEVENT
UID:90e65780ff351bed26a7d2767299451e@nepalicalendar.com
DTSTAMP:20260422T155312Z
DTSTART;VALUE=DATE:20240925
DTEND;VALUE=DATE:20240926
SUMMARY:जितियापर्व (पर्व मनाउने महिलाहरूलाई बिदा)
DESCRIPTION:जितियापर्व (पर्व मनाउने महिलाहरूलाई बिदा)
END:VEVENT
END:VCALENDAR