BEGIN:VCALENDAR
VERSION:2.0
PRODID:-//Nepali Calendar//EN
BEGIN:VEVENT
UID:c9d8001690630119ea3c38b62b60814c@nepalicalendar.com
DTSTAMP:20260422T141046Z
DTSTART;VALUE=DATE:20240925
DTEND;VALUE=DATE:20240926
SUMMARY:गोरखकाली पूजा
DESCRIPTION:गोरखकाली पूजा
END:VEVENT
END:VCALENDAR